BEGIN:VCALENDAR
VERSION:2.0
PRODID:-//Panettone UG//Riverfront Open Air 2026//EN
CALSCALE:GREGORIAN
METHOD:PUBLISH
BEGIN:VTIMEZONE
TZID:Europe/Berlin
BEGIN:DAYLIGHT
TZOFFSETFROM:+0100
TZOFFSETTO:+0200
TZNAME:CEST
DTSTART:19700329T020000
RRULE:FREQ=YEARLY;BYDAY=-1SU;BYMONTH=3
END:DAYLIGHT
BEGIN:STANDARD
TZOFFSETFROM:+0200
TZOFFSETTO:+0100
TZNAME:CET
DTSTART:19701025T030000
RRULE:FREQ=YEARLY;BYDAY=-1SU;BYMONTH=10
END:STANDARD
END:VTIMEZONE
BEGIN:VEVENT
UID:riverfront-open-air-2026-07-12@panettone.ug
DTSTAMP:20260423T120000Z
DTSTART;TZID=Europe/Berlin:20260712T110000
DTEND;TZID=Europe/Berlin:20260712T220000
SUMMARY:Riverfront Open Air
DESCRIPTION:Summer vibes\, +10 incredible artists\, ice cream\, pedal boat racing and more!\n\nStart: 11:00\nEnd: 22:00\n\nLocation: https://maps.app.goo.gl/hvpgZN4hr8ezRhLb8
LOCATION:https://maps.app.goo.gl/hvpgZN4hr8ezRhLb8
URL:https://maps.app.goo.gl/hvpgZN4hr8ezRhLb8
STATUS:CONFIRMED
TRANSP:OPAQUE
END:VEVENT
END:VCALENDAR
